BEGIN:VCALENDAR
VERSION:2.0
PRODID:-//eventon.com NONSGML v1.0//EN
BEGIN:VEVENT
UID:69e5e15972a63
DTSTAMP:20260420T081833
DTSTART:20200219T000000Z
DTEND:20200221T235900Z
LOCATION:
SUMMARY:V GEQB ChemBio Group Meeting
DESCRIPTION: CONTACTO - congresosgranada@viajeseci.es Web del congreso
END:VEVENT
END:VCALENDAR