BEGIN:VCALENDAR
VERSION:2.0
PRODID:-//eventon.com NONSGML v1.0//EN
BEGIN:VEVENT
UID:69e5e15faedee
DTSTAMP:20260420T081839
DTSTART:20191211T000000Z
DTEND:20191211T235900Z
LOCATION:
SUMMARY:Seminario sobre Análisis de Decisión Multicriterio
DESCRIPTION: LUGAR Y FECHA Escuela Andaluza de Salud Pública 11 de diciembre de 2019 &nbsp; DIRIGIDO A Responsables de gestión sanitaria e interesados en Evaluación &nbsp; INSCRIPCIÓN Y SECRETARÍA Trinidad Fernández. trinidad.fernandez.easp@juntadeandalucia.es Inscripción Gratuita Hasta el 3 de diciembre o cubrir aforo en: http://www.easp.ws/c/AVCPNE
END:VEVENT
END:VCALENDAR