BEGIN:VCALENDAR
VERSION:2.0
PRODID:-//eventon.com NONSGML v1.0//EN
BEGIN:VEVENT
UID:69e73cd7710fa
DTSTAMP:20260421T090111
DTSTART:20200306T090000Z
DTEND:20200306T140000Z
LOCATION:Salón de Actos GENYO 
SUMMARY:Unistem Day
DESCRIPTION: UniStem es una actividad divulgativa dirigida a los alumnos de bachillerato que se celebra simultáneamente en 74 universidades europeas y que tiene previsto reunir a cerca de 30.000 estudiantes. Esta jornada tiene por objeto estimular el interés de los jóvenes y hacerles descubrir una vocación por la ciencia y la[..]
END:VEVENT
END:VCALENDAR