BEGIN:VCALENDAR
VERSION:2.0
PRODID:-//eventon.com NONSGML v1.0//EN
BEGIN:VEVENT
UID:69e5e10aa6cd0
DTSTAMP:20260420T081714
DTSTART:20201021T080000Z
DTEND:20201021T090000Z
LOCATION:Escuela Andaluza de Salud Pública Cuesta del Observatorio\,  4\,  18011
SUMMARY:Diploma de Especialización en Género y Salud\,  Servicios Sanitarios y Sociales (13ª edición)
DESCRIPTION: "Título propio de la Universidad de Granada" Organizan EASP y Universidad de Granada
END:VEVENT
END:VCALENDAR