BEGIN:VCALENDAR
VERSION:2.0
PRODID:-//eventon.com NONSGML v1.0//EN
BEGIN:VEVENT
UID:69e5de017eb9b
DTSTAMP:20260420T080417
DTSTART:20200225T180000Z
DTEND:20200225T200000Z
LOCATION:Confederación de Empresarios Calle Maestro Montero\,  23
SUMMARY:Las Empresas Familiares 3.0. Las Oportunidades en Materia Fiscal
DESCRIPTION: En el marco del proyecto de la Cultura Emprendedora y Autoempleo  CEA+Empresas\,  se desarrolla el día 25 de febrero a las 18.00h en la sede de la CGE\,  la Jornada: “Las Empresas Familiares 3.0. Las Oportunidades en Materia Fiscal.” El objetivo es dar a conocer las herramientas que el mercado[..]
END:VEVENT
END:VCALENDAR