BEGIN:VCALENDAR
VERSION:2.0
PRODID:-//eventon.com NONSGML v1.0//EN
BEGIN:VEVENT
UID:69e5e15f92542
DTSTAMP:20260420T081839
DTSTART:20200217T100000Z
DTEND:20200217T113000Z
LOCATION:Sede de On Granada C/ Maestro Montero 23
SUMMARY:Edge Computing para el 5G e Inteligencia Artificial: Oportunidades
DESCRIPTION: El experto en AI Inteligencia Artificial y profesor de la UGR Universidad de Granada\,  Francisco Herrera\,  será el encargado de impartir el próximo 17 de febrero una nueva conferencia dirigida a empresarios y profesionales TIC organizada por la Oficina de Transformación Digital de OnTech Innovation y como meetup previo a la South Tech Week 2020[..]
END:VEVENT
END:VCALENDAR