BEGIN:VCALENDAR
VERSION:2.0
PRODID:-//eventon.com NONSGML v1.0//EN
BEGIN:VEVENT
UID:69e5e12051f94
DTSTAMP:20260420T081736
DTSTART:20200521T103000Z
DTEND:20200521T120000Z
LOCATION:online 
SUMMARY:Gestión de Proyectos de Software: Deuda Técnica
DESCRIPTION: Desde la empresa Celtiberian Solutions de Granada proponemos una charla sobre la gestión técnica de proyectos de software\,  accesible para cualquier nivel de preparación\,  siempre y cuando se manejen los conceptos básicos implicados en un proyecto de ingeniería de software. Nos centraremos en hablar sobre la deuda técnica\,  sus tipos[..]
END:VEVENT
END:VCALENDAR