BEGIN:VCALENDAR
VERSION:2.0
PRODID:-//eventon.com NONSGML v1.0//EN
BEGIN:VEVENT
UID:69e73c82b51f1
DTSTAMP:20260421T085946
DTSTART:20200521T093000Z
DTEND:20200521T113000Z
LOCATION:ONLINE a través de Zoom.us 
SUMMARY:IV Coronavirus MeetUp
DESCRIPTION: En este tiempo los proyectos de los que hemos venido hablando han seguido avanzando\,  se han conseguido colaboraciones\,  solicitado financiación e incluso se tienen algunos resultados muy destacables que nos gustaría compartir con los asistentes. Les emplazamos por tanto a todos y todas a este 4º MeetUp entorno a coronavirus[..]
END:VEVENT
END:VCALENDAR