BEGIN:VCALENDAR
VERSION:2.0
PRODID:-//eventon.com NONSGML v1.0//EN
BEGIN:VEVENT
UID:69e5e1593bc0d
DTSTAMP:20260420T081833
DTSTART:20200522T100000Z
DTEND:20200522T130000Z
LOCATION:online 
SUMMARY:Jornada Gratuita: Amenazas en la Red en Tiempos de Confinamiento
DESCRIPTION: Tecnológicamente hablando\,  si algo nos enseña el confinamiento es que el teletrabajo no sólo es posible\,  sino que es un modelo de comportamiento que ha llegado para quedarse. Esto implica un cambio de paradigma en los planes de transformación digital que tuvieran diseñados las empresas. Las amenazas en la red[..]
END:VEVENT
END:VCALENDAR