BEGIN:VCALENDAR
VERSION:2.0
PRODID:-//eventon.com NONSGML v1.0//EN
BEGIN:VEVENT
UID:69e5e10aae968
DTSTAMP:20260420T081714
DTSTART:20200916T100000Z
DTEND:20200916T110000Z
LOCATION:online 
SUMMARY:Webinar: Herramientas de ventas en tu transformación digital
DESCRIPTION: Entender el proceso de cambio en los procesos de venta en la era digital. Optimizar los medios adecuados para la planificación comercial con las nuevas tecnologías Conocer las nuevas herramientas digitales que ayudan a ser más efectivas las ventas.
END:VEVENT
END:VCALENDAR