BEGIN:VCALENDAR
VERSION:2.0
PRODID:-//eventon.com NONSGML v1.0//EN
BEGIN:VEVENT
UID:69e5df43d5316
DTSTAMP:20260420T080939
DTSTART:20200916T110000Z
DTEND:20200916T130000Z
LOCATION:online 
SUMMARY:“Jornada Técnica de la Convocatoria de Ayudas Para Proyectos de Investigación Industrial y Proyectos de Desarrollo Experimental Individuales.”
DESCRIPTION: En este webinar se expondrá y se resolverán las dudas sobre la convocatoria de las ayudas para Proyectos de Investigación y Desarrollo Experimental Empresarial Individual convocadas por la Agencia Idea.
END:VEVENT
END:VCALENDAR