BEGIN:VCALENDAR
VERSION:2.0
PRODID:-//eventon.com NONSGML v1.0//EN
BEGIN:VEVENT
UID:69e5e1218f234
DTSTAMP:20260420T081737
DTSTART:20210121T123000Z
DTEND:20210121T140000Z
LOCATION:ONLINE a través de Zoom.us 
SUMMARY:Jueves regulatorios - Nonclinical & Regulatory considerations to get a molecule into the Clinic
DESCRIPTION: About this Event Enabling organizations to ensure compliance with ever-changing regulatory obligations\,  manage risk\,  increase efficiency\,  and produce better business results is not an easy task. That is why we propose a series of sessions to encourage all sizes organizations to have a defined regulatory strategy since development phases\,  providing[..]
END:VEVENT
END:VCALENDAR