BEGIN:VCALENDAR
VERSION:2.0
PRODID:-//eventon.com NONSGML v1.0//EN
BEGIN:VEVENT
UID:69e5e400dfec6
DTSTAMP:20260420T082952
DTSTART:20210119T093000Z
DTEND:20210119T110000Z
LOCATION:ONLINE a través de Zoom.us 
SUMMARY:MeetUp: ¿Cómo vender a un Hospital?
DESCRIPTION: ¿Quieres saber cuál es el proceso para poder vender tu producto  o servicio a un hospital público o privado? En este meetup vamos a tratar de darte una respuesta. Será el Martes 19 de Enero a las 9:30h. Contaremos con la participación de Jose Luis Palma\,   Subdirector de Compras y Logística[..]
END:VEVENT
END:VCALENDAR