BEGIN:VCALENDAR
VERSION:2.0
PRODID:-//eventon.com NONSGML v1.0//EN
BEGIN:VEVENT
UID:69e5de889488c
DTSTAMP:20260420T080632
DTSTART:20210120T100000Z
DTEND:20210120T110000Z
LOCATION:online 
SUMMARY:WEBINAR Nuevas Ayudas de la Agencia IDEA para proyectos de Innovación en Procesos u Organización
DESCRIPTION: En este webinar se explicará la nueva convocatoria de ayudas puesta en marcha por el Gobierno Andaluz\,  a través de la nueva Agencia de Innovación y Desarrollo de Andalucía IDEA. Esta convocatoria tiene como objetivo apoyar proyectos de innovación en procesos u organización\,  en el marco del Programa de incentivos para la promoción[..]
END:VEVENT
END:VCALENDAR