BEGIN:VCALENDAR
VERSION:2.0
PRODID:-//eventon.com NONSGML v1.0//EN
BEGIN:VEVENT
UID:69e5df792a6b4
DTSTAMP:20260420T081033
DTSTART:20211214T133000Z
DTEND:20211214T143000Z
LOCATION:ONLINE a través de Zoom.us 
SUMMARY:Sesión de investigación: Cosméticos y endometriosis. Resultados del estudio EndEA
DESCRIPTION: Sesión de investigación ibs.GRANADA Cosméticos y endometriosis. Resultados del estudio EndEA. Dra. Olga Ocón Hernández. Unidad de Medicina Fetal Hospital Universitario Clínico San Cecilio. Investigadora del grupo TEC12 de Biomecánica de ibs.GRANADA. &nbsp; INSCRIPCIONES
END:VEVENT
END:VCALENDAR